BEGIN:VCALENDAR
VERSION:2.0
PRODID:-//St James the Great Primary School - ECPv6.1.0.2//NONSGML v1.0//EN
CALSCALE:GREGORIAN
METHOD:PUBLISH
X-ORIGINAL-URL:https://stjamesthegreat.southwark.sch.uk
X-WR-CALDESC:Events for St James the Great Primary School
REFRESH-INTERVAL;VALUE=DURATION:PT1H
X-Robots-Tag:noindex
X-PUBLISHED-TTL:PT1H
BEGIN:VTIMEZONE
TZID:UTC
BEGIN:STANDARD
TZOFFSETFROM:+0000
TZOFFSETTO:+0000
TZNAME:UTC
DTSTART:20250101T000000
END:STANDARD
END:VTIMEZONE
BEGIN:VEVENT
DTSTART;VALUE=DATE:20250703
DTEND;VALUE=DATE:20250704
DTSTAMP:20260421T203953
CREATED:20241125T150008Z
LAST-MODIFIED:20241125T150008Z
UID:9194-1751500800-1751587199@stjamesthegreat.southwark.sch.uk
SUMMARY:St Thomas\, Apostle - Feast Day
DESCRIPTION:St Thomas\, Apostle
URL:https://stjamesthegreat.southwark.sch.uk/event/st-thomas-apostle-feast-day/
END:VEVENT
BEGIN:VEVENT
DTSTART;VALUE=DATE:20250704
DTEND;VALUE=DATE:20250705
DTSTAMP:20260421T203953
CREATED:20241125T150055Z
LAST-MODIFIED:20241125T150055Z
UID:9196-1751587200-1751673599@stjamesthegreat.southwark.sch.uk
SUMMARY:Saint Elizabeth of Portugal
DESCRIPTION:Saint Elizabeth of Portugal
URL:https://stjamesthegreat.southwark.sch.uk/event/saint-elizabeth-of-portugal/
END:VEVENT
BEGIN:VEVENT
DTSTART;VALUE=DATE:20250711
DTEND;VALUE=DATE:20250712
DTSTAMP:20260421T203953
CREATED:20241125T150205Z
LAST-MODIFIED:20241125T150205Z
UID:9198-1752192000-1752278399@stjamesthegreat.southwark.sch.uk
SUMMARY:Saint Benedict\, Abbott\, Co-Patron of Europe - Feast Day
DESCRIPTION:Saint Benedict\, Abbott\, Co-Patron of Europe
URL:https://stjamesthegreat.southwark.sch.uk/event/saint-benedict-abbott-co-patron-of-europe-feast-day/
END:VEVENT
BEGIN:VEVENT
DTSTART;VALUE=DATE:20250722
DTEND;VALUE=DATE:20250723
DTSTAMP:20260421T203953
CREATED:20241125T150408Z
LAST-MODIFIED:20241125T150408Z
UID:9200-1753142400-1753228799@stjamesthegreat.southwark.sch.uk
SUMMARY:Saint Mary Magdalen - Feast Day
DESCRIPTION:Saint Mary Magdalen
URL:https://stjamesthegreat.southwark.sch.uk/event/saint-mary-magdalen-feast-day/
END:VEVENT
BEGIN:VEVENT
DTSTART;VALUE=DATE:20250723
DTEND;VALUE=DATE:20250724
DTSTAMP:20260421T203953
CREATED:20241125T150504Z
LAST-MODIFIED:20241125T150504Z
UID:9202-1753228800-1753315199@stjamesthegreat.southwark.sch.uk
SUMMARY:Saint Bridget of Sweden\, Patroness of Europe - Feast Day
DESCRIPTION:Saint Bridget of Sweden\, Patroness of Europe
URL:https://stjamesthegreat.southwark.sch.uk/event/saint-bridget-of-sweden-patroness-of-europe-feast-day/
END:VEVENT
BEGIN:VEVENT
DTSTART;VALUE=DATE:20250725
DTEND;VALUE=DATE:20250726
DTSTAMP:20260421T203953
CREATED:20241125T150642Z
LAST-MODIFIED:20241125T150642Z
UID:9204-1753401600-1753487999@stjamesthegreat.southwark.sch.uk
SUMMARY:Saint James the Great\, Apostle - Feast Day
DESCRIPTION:Saint James the Great\, Apostle
URL:https://stjamesthegreat.southwark.sch.uk/event/saint-james-the-great-apostle-feast-day/
END:VEVENT
BEGIN:VEVENT
DTSTART;VALUE=DATE:20250726
DTEND;VALUE=DATE:20250727
DTSTAMP:20260421T203953
CREATED:20241125T150848Z
LAST-MODIFIED:20241125T150848Z
UID:9206-1753488000-1753574399@stjamesthegreat.southwark.sch.uk
SUMMARY:Saint Joachim and Saint Anne\, parents of the Blessed Virgin Mary
DESCRIPTION:Saint Joachim and Saint Anne
URL:https://stjamesthegreat.southwark.sch.uk/event/saint-joachim-and-saint-anne-parents-of-the-blessed-virgin-mary/
END:VEVENT
END:VCALENDAR