BEGIN:VCALENDAR
VERSION:2.0
PRODID:-//St James the Great Primary School - ECPv6.1.0.2//NONSGML v1.0//EN
CALSCALE:GREGORIAN
METHOD:PUBLISH
X-ORIGINAL-URL:https://stjamesthegreat.southwark.sch.uk
X-WR-CALDESC:Events for St James the Great Primary School
REFRESH-INTERVAL;VALUE=DURATION:PT1H
X-Robots-Tag:noindex
X-PUBLISHED-TTL:PT1H
BEGIN:VTIMEZONE
TZID:UTC
BEGIN:STANDARD
TZOFFSETFROM:+0000
TZOFFSETTO:+0000
TZNAME:UTC
DTSTART:20250101T000000
END:STANDARD
END:VTIMEZONE
BEGIN:VEVENT
DTSTART;VALUE=DATE:20250608
DTEND;VALUE=DATE:20250609
DTSTAMP:20260421T222759
CREATED:20241125T144711Z
LAST-MODIFIED:20241125T144711Z
UID:9174-1749340800-1749427199@stjamesthegreat.southwark.sch.uk
SUMMARY:Pentecost
DESCRIPTION:Pentecost
URL:https://stjamesthegreat.southwark.sch.uk/event/pentecost/
END:VEVENT
BEGIN:VEVENT
DTSTART;VALUE=DATE:20250609
DTEND;VALUE=DATE:20250610
DTSTAMP:20260421T222759
CREATED:20241125T144819Z
LAST-MODIFIED:20241125T144819Z
UID:9176-1749427200-1749513599@stjamesthegreat.southwark.sch.uk
SUMMARY:Mary\, Mother of the Church
DESCRIPTION:Mary\, Mother of the Church
URL:https://stjamesthegreat.southwark.sch.uk/event/mary-mother-of-the-church/
END:VEVENT
BEGIN:VEVENT
DTSTART;VALUE=DATE:20250611
DTEND;VALUE=DATE:20250612
DTSTAMP:20260421T222759
CREATED:20241125T144910Z
LAST-MODIFIED:20241125T144910Z
UID:9178-1749600000-1749686399@stjamesthegreat.southwark.sch.uk
SUMMARY:Saint Barnabas\, Apostle
DESCRIPTION:Saint Barnabas\, Apostle
URL:https://stjamesthegreat.southwark.sch.uk/event/saint-barnabas-apostle/
END:VEVENT
BEGIN:VEVENT
DTSTART;VALUE=DATE:20250612
DTEND;VALUE=DATE:20250613
DTSTAMP:20260421T222759
CREATED:20241125T145009Z
LAST-MODIFIED:20241125T145009Z
UID:9180-1749686400-1749772799@stjamesthegreat.southwark.sch.uk
SUMMARY:Our Lord Jesus Christ the Eternal High Priest - Feast Day
DESCRIPTION:Our Lord Jesus Christ the Eternal High Priest
URL:https://stjamesthegreat.southwark.sch.uk/event/our-lord-jesus-christ-the-eternal-high-priest-feast-day/
END:VEVENT
BEGIN:VEVENT
DTSTART;VALUE=DATE:20250615
DTEND;VALUE=DATE:20250616
DTSTAMP:20260421T222759
CREATED:20241125T145132Z
LAST-MODIFIED:20241125T145132Z
UID:9182-1749945600-1750031999@stjamesthegreat.southwark.sch.uk
SUMMARY:The Most Holy Trinity
DESCRIPTION:The Most Holy Trinity
URL:https://stjamesthegreat.southwark.sch.uk/event/the-most-holy-trinity/
END:VEVENT
BEGIN:VEVENT
DTSTART;VALUE=DATE:20250622
DTEND;VALUE=DATE:20250623
DTSTAMP:20260421T222759
CREATED:20241125T145228Z
LAST-MODIFIED:20241125T145228Z
UID:9184-1750550400-1750636799@stjamesthegreat.southwark.sch.uk
SUMMARY:The Most Holy Body and Blood of Christ
DESCRIPTION:Corpus Christi
URL:https://stjamesthegreat.southwark.sch.uk/event/the-most-holy-body-and-blood-of-christ/
END:VEVENT
BEGIN:VEVENT
DTSTART;VALUE=DATE:20250624
DTEND;VALUE=DATE:20250625
DTSTAMP:20260421T222759
CREATED:20241125T145419Z
LAST-MODIFIED:20241125T145419Z
UID:9186-1750723200-1750809599@stjamesthegreat.southwark.sch.uk
SUMMARY:The Nativity of Saint John the Baptist
DESCRIPTION:The Nativity of Saint John the Baptist
URL:https://stjamesthegreat.southwark.sch.uk/event/the-nativity-of-saint-john-the-baptist/
END:VEVENT
BEGIN:VEVENT
DTSTART;VALUE=DATE:20250627
DTEND;VALUE=DATE:20250628
DTSTAMP:20260421T222759
CREATED:20241125T145650Z
LAST-MODIFIED:20241125T145650Z
UID:9188-1750982400-1751068799@stjamesthegreat.southwark.sch.uk
SUMMARY:The Most Sacred Heart of Jesus
DESCRIPTION:The Most Sacred Heart of Jesus
URL:https://stjamesthegreat.southwark.sch.uk/event/the-most-sacred-heart-of-jesus/
END:VEVENT
BEGIN:VEVENT
DTSTART;VALUE=DATE:20250628
DTEND;VALUE=DATE:20250629
DTSTAMP:20260421T222759
CREATED:20241125T145845Z
LAST-MODIFIED:20241125T145845Z
UID:9192-1751068800-1751155199@stjamesthegreat.southwark.sch.uk
SUMMARY:The Immaculate Heart of Mary
DESCRIPTION:The Immaculate Heart of Mary
URL:https://stjamesthegreat.southwark.sch.uk/event/the-immaculate-heart-of-mary/
END:VEVENT
BEGIN:VEVENT
DTSTART;VALUE=DATE:20250629
DTEND;VALUE=DATE:20250630
DTSTAMP:20260421T222759
CREATED:20241125T145756Z
LAST-MODIFIED:20241125T145756Z
UID:9190-1751155200-1751241599@stjamesthegreat.southwark.sch.uk
SUMMARY:Saints Peter and Paul\, Apostles
DESCRIPTION:Saints Peter and Paul\, Apostles
URL:https://stjamesthegreat.southwark.sch.uk/event/saints-peter-and-paul-apostles/
END:VEVENT
END:VCALENDAR