BEGIN:VCALENDAR
VERSION:2.0
PRODID:-//St James the Great Primary School - ECPv6.1.0.2//NONSGML v1.0//EN
CALSCALE:GREGORIAN
METHOD:PUBLISH
X-WR-CALNAME:St James the Great Primary School
X-ORIGINAL-URL:https://stjamesthegreat.southwark.sch.uk
X-WR-CALDESC:Events for St James the Great Primary School
REFRESH-INTERVAL;VALUE=DURATION:PT1H
X-Robots-Tag:noindex
X-PUBLISHED-TTL:PT1H
BEGIN:VTIMEZONE
TZID:UTC
BEGIN:STANDARD
TZOFFSETFROM:+0000
TZOFFSETTO:+0000
TZNAME:UTC
DTSTART:20250101T000000
END:STANDARD
END:VTIMEZONE
BEGIN:VEVENT
DTSTART;VALUE=DATE:20250406
DTEND;VALUE=DATE:20250407
DTSTAMP:20260422T014135
CREATED:20241125T135359Z
LAST-MODIFIED:20241125T135359Z
UID:9133-1743897600-1743983999@stjamesthegreat.southwark.sch.uk
SUMMARY:5th Sunday of Lent
DESCRIPTION:5th Sunday of Lent
URL:https://stjamesthegreat.southwark.sch.uk/event/5th-sunday-of-lent/
END:VEVENT
BEGIN:VEVENT
DTSTART;VALUE=DATE:20250412
DTEND;VALUE=DATE:20250413
DTSTAMP:20260422T014135
CREATED:20241125T135901Z
LAST-MODIFIED:20241125T135901Z
UID:9139-1744416000-1744502399@stjamesthegreat.southwark.sch.uk
SUMMARY:Passover begins
DESCRIPTION:Passover begins
URL:https://stjamesthegreat.southwark.sch.uk/event/passover-begins/
END:VEVENT
BEGIN:VEVENT
DTSTART;VALUE=DATE:20250413
DTEND;VALUE=DATE:20250414
DTSTAMP:20260422T014135
CREATED:20241125T135610Z
LAST-MODIFIED:20241125T135610Z
UID:9135-1744502400-1744588799@stjamesthegreat.southwark.sch.uk
SUMMARY:Palm Sunday
DESCRIPTION:Palm Sunday
URL:https://stjamesthegreat.southwark.sch.uk/event/palm-sunday/
END:VEVENT
BEGIN:VEVENT
DTSTART;VALUE=DATE:20250414
DTEND;VALUE=DATE:20250415
DTSTAMP:20260422T014135
CREATED:20241125T135829Z
LAST-MODIFIED:20241125T140640Z
UID:9137-1744588800-1744675199@stjamesthegreat.southwark.sch.uk
SUMMARY:Holy week starts
DESCRIPTION:Holy week starts
URL:https://stjamesthegreat.southwark.sch.uk/event/holy-week-starts/
END:VEVENT
BEGIN:VEVENT
DTSTART;VALUE=DATE:20250417
DTEND;VALUE=DATE:20250418
DTSTAMP:20260422T014135
CREATED:20241125T135940Z
LAST-MODIFIED:20241125T135940Z
UID:9141-1744848000-1744934399@stjamesthegreat.southwark.sch.uk
SUMMARY:Maundy Thursday
DESCRIPTION:Maundy Thursday
URL:https://stjamesthegreat.southwark.sch.uk/event/maundy-thursday/
END:VEVENT
BEGIN:VEVENT
DTSTART;VALUE=DATE:20250418
DTEND;VALUE=DATE:20250419
DTSTAMP:20260422T014135
CREATED:20241125T140006Z
LAST-MODIFIED:20241125T140006Z
UID:9143-1744934400-1745020799@stjamesthegreat.southwark.sch.uk
SUMMARY:Good Friday
DESCRIPTION:Good Friday
URL:https://stjamesthegreat.southwark.sch.uk/event/good-friday/
END:VEVENT
BEGIN:VEVENT
DTSTART;VALUE=DATE:20250419
DTEND;VALUE=DATE:20250420
DTSTAMP:20260422T014135
CREATED:20241125T140041Z
LAST-MODIFIED:20241125T140041Z
UID:9145-1745020800-1745107199@stjamesthegreat.southwark.sch.uk
SUMMARY:Holy Saturday
DESCRIPTION:Holy Saturday
URL:https://stjamesthegreat.southwark.sch.uk/event/holy-saturday/
END:VEVENT
BEGIN:VEVENT
DTSTART;VALUE=DATE:20250420
DTEND;VALUE=DATE:20250421
DTSTAMP:20260422T014135
CREATED:20241125T140108Z
LAST-MODIFIED:20241125T140126Z
UID:9147-1745107200-1745193599@stjamesthegreat.southwark.sch.uk
SUMMARY:Easter Sunday - Passover ends
DESCRIPTION:Easter Sunday
URL:https://stjamesthegreat.southwark.sch.uk/event/easter-sunday/
END:VEVENT
BEGIN:VEVENT
DTSTART;VALUE=DATE:20250425
DTEND;VALUE=DATE:20250426
DTSTAMP:20260422T014135
CREATED:20241125T140243Z
LAST-MODIFIED:20241125T140243Z
UID:9150-1745539200-1745625599@stjamesthegreat.southwark.sch.uk
SUMMARY:St Mark the Evangelist
DESCRIPTION:St Mark the Evangelist
URL:https://stjamesthegreat.southwark.sch.uk/event/st-mark-the-evangelist/
END:VEVENT
BEGIN:VEVENT
DTSTART;VALUE=DATE:20250428
DTEND;VALUE=DATE:20250429
DTSTAMP:20260422T014135
CREATED:20241125T140906Z
LAST-MODIFIED:20241125T140906Z
UID:9152-1745798400-1745884799@stjamesthegreat.southwark.sch.uk
SUMMARY:Saint George\, Martyr (England)
DESCRIPTION:Saint George\, Martyr (England)
URL:https://stjamesthegreat.southwark.sch.uk/event/saint-george-martyr-england/
END:VEVENT
BEGIN:VEVENT
DTSTART;VALUE=DATE:20250429
DTEND;VALUE=DATE:20250430
DTSTAMP:20260422T014135
CREATED:20241125T140943Z
LAST-MODIFIED:20241125T140943Z
UID:9154-1745884800-1745971199@stjamesthegreat.southwark.sch.uk
SUMMARY:Saint Catherine of Sienna - Feast Day
DESCRIPTION:Saint Catherine of Sienna – Feast Day
URL:https://stjamesthegreat.southwark.sch.uk/event/saint-catherine-of-sienna-feast-day/
END:VEVENT
END:VCALENDAR