BEGIN:VCALENDAR
VERSION:2.0
PRODID:-//St James the Great Primary School - ECPv6.1.0.2//NONSGML v1.0//EN
CALSCALE:GREGORIAN
METHOD:PUBLISH
X-ORIGINAL-URL:https://stjamesthegreat.southwark.sch.uk
X-WR-CALDESC:Events for St James the Great Primary School
REFRESH-INTERVAL;VALUE=DURATION:PT1H
X-Robots-Tag:noindex
X-PUBLISHED-TTL:PT1H
BEGIN:VTIMEZONE
TZID:UTC
BEGIN:STANDARD
TZOFFSETFROM:+0000
TZOFFSETTO:+0000
TZNAME:UTC
DTSTART:20250101T000000
END:STANDARD
END:VTIMEZONE
BEGIN:VEVENT
DTSTART;VALUE=DATE:20250806
DTEND;VALUE=DATE:20250807
DTSTAMP:20260420T200005
CREATED:20241125T151421Z
LAST-MODIFIED:20241125T151421Z
UID:9208-1754438400-1754524799@stjamesthegreat.southwark.sch.uk
SUMMARY:The Transfiguration of the Lord - Feast Day
DESCRIPTION:The Transfiguration of the Lord
URL:https://stjamesthegreat.southwark.sch.uk/event/the-transfiguration-of-the-lord-feast-day/
END:VEVENT
END:VCALENDAR