BEGIN:VCALENDAR
VERSION:2.0
PRODID:-//St James the Great Primary School - ECPv6.1.0.2//NONSGML v1.0//EN
CALSCALE:GREGORIAN
METHOD:PUBLISH
X-ORIGINAL-URL:https://stjamesthegreat.southwark.sch.uk
X-WR-CALDESC:Events for St James the Great Primary School
REFRESH-INTERVAL;VALUE=DURATION:PT1H
X-Robots-Tag:noindex
X-PUBLISHED-TTL:PT1H
BEGIN:VTIMEZONE
TZID:UTC
BEGIN:STANDARD
TZOFFSETFROM:+0000
TZOFFSETTO:+0000
TZNAME:UTC
DTSTART:20250101T000000
END:STANDARD
END:VTIMEZONE
BEGIN:VEVENT
DTSTART;VALUE=DATE:20250726
DTEND;VALUE=DATE:20250727
DTSTAMP:20260421T052153
CREATED:20241125T150848Z
LAST-MODIFIED:20241125T150848Z
UID:9206-1753488000-1753574399@stjamesthegreat.southwark.sch.uk
SUMMARY:Saint Joachim and Saint Anne\, parents of the Blessed Virgin Mary
DESCRIPTION:Saint Joachim and Saint Anne
URL:https://stjamesthegreat.southwark.sch.uk/event/saint-joachim-and-saint-anne-parents-of-the-blessed-virgin-mary/
END:VEVENT
END:VCALENDAR