BEGIN:VCALENDAR
VERSION:2.0
PRODID:-//St James the Great Primary School - ECPv6.1.0.2//NONSGML v1.0//EN
CALSCALE:GREGORIAN
METHOD:PUBLISH
X-WR-CALNAME:St James the Great Primary School
X-ORIGINAL-URL:https://stjamesthegreat.southwark.sch.uk
X-WR-CALDESC:Events for St James the Great Primary School
REFRESH-INTERVAL;VALUE=DURATION:PT1H
X-Robots-Tag:noindex
X-PUBLISHED-TTL:PT1H
BEGIN:VTIMEZONE
TZID:UTC
BEGIN:STANDARD
TZOFFSETFROM:+0000
TZOFFSETTO:+0000
TZNAME:UTC
DTSTART:20250101T000000
END:STANDARD
END:VTIMEZONE
BEGIN:VEVENT
DTSTART;VALUE=DATE:20250612
DTEND;VALUE=DATE:20250613
DTSTAMP:20260422T000646
CREATED:20241125T145009Z
LAST-MODIFIED:20241125T145009Z
UID:9180-1749686400-1749772799@stjamesthegreat.southwark.sch.uk
SUMMARY:Our Lord Jesus Christ the Eternal High Priest - Feast Day
DESCRIPTION:Our Lord Jesus Christ the Eternal High Priest
URL:https://stjamesthegreat.southwark.sch.uk/event/our-lord-jesus-christ-the-eternal-high-priest-feast-day/
END:VEVENT
END:VCALENDAR